BEGIN:VCALENDAR
VERSION:2.0
PRODID:-//En moovement - ECPv6.7.0//NONSGML v1.0//EN
CALSCALE:GREGORIAN
METHOD:PUBLISH
X-WR-CALNAME:En moovement
X-ORIGINAL-URL:https://www.enmoovement.com
X-WR-CALDESC:Évènements pour En moovement
REFRESH-INTERVAL;VALUE=DURATION:PT1H
X-Robots-Tag:noindex
X-PUBLISHED-TTL:PT1H
BEGIN:VTIMEZONE
TZID:Europe/Paris
BEGIN:DAYLIGHT
TZOFFSETFROM:+0100
TZOFFSETTO:+0200
TZNAME:CEST
DTSTART:20240331T010000
END:DAYLIGHT
BEGIN:STANDARD
TZOFFSETFROM:+0200
TZOFFSETTO:+0100
TZNAME:CET
DTSTART:20241027T010000
END:STANDARD
END:VTIMEZONE
BEGIN:VEVENT
DTSTART;TZID=Europe/Paris:20240906T100000
DTEND;TZID=Europe/Paris:20240906T123000
DTSTAMP:20260424T155442
CREATED:20240705T051929Z
LAST-MODIFIED:20240705T051929Z
UID:1585-1725616800-1725625800@www.enmoovement.com
SUMMARY:Marche Jeu de piste à Bordeaux
DESCRIPTION:Vendredi 6 septembre de 10h à 12h30\, nous aurons l’occasion de marcher dans Bordeaux et de jouer à un jeu de piste pour découvrir la ville autrement. Tout est mis en place pour que tu sois constamment entouré(e) et que tu aies l’opportunité de rencontrer plusieurs entrepreneurs. \nCette balade sera animée par Claire\, fondatrice de l’association En Moov’ement. \nPartez à la découverte du Bordeaux secret et insolite grâce à un jeu de piste. En groupe et muni de votre carnet de route\, votre mission sera de résoudre un certain nombre d’énigmes. A votre rythme\, de façon ludique et en totale autonomie\, redécouvrez la ville ! \nPour ceux qui le souhaitent\, la marche sera suivie d’un pique-nique. \nInscription et informations complémentaires en cliquant sur ce lien.
URL:https://www.enmoovement.com/marche/marche-jeu-de-piste-a-bordeaux/
LOCATION:Bordeaux\, Bordeaux\, Gironde\, 33000\, France
CATEGORIES:Marche,Marche activité
END:VEVENT
BEGIN:VEVENT
DTSTART;TZID=Europe/Paris:20240907T100000
DTEND;TZID=Europe/Paris:20240907T123000
DTSTAMP:20260424T155442
CREATED:20240702T093858Z
LAST-MODIFIED:20240702T093858Z
UID:1573-1725703200-1725712200@www.enmoovement.com
SUMMARY:Marche & Collecte de déchets à la Plage de la Gravière\, Hossegor
DESCRIPTION:Samedi 7 septembre de 10h à 12h30\, nous organisons une Initiative Océane en collaboration avec Surfrider Foundation Europe\, une belle ONG avec de belles valeurs. Ça sera l’occasion de se réunir entre entrepreneurs pour collecter des déchets le long de la plage la Gravière à Hossegor. Pour ceux qui le souhaitent\, vous pouvez apporter de quoi pique-niquer sur place après la collecte de déchets. \nInscription et informations complémentaires en cliquant sur ce lien.
URL:https://www.enmoovement.com/marche/marche-collecte-de-dechets-a-la-plage-de-la-graviere-hossegor/
LOCATION:Hossegor\, Hossegor\, Les Landes\, 40304\, France
CATEGORIES:Marche,Marche activité
END:VEVENT
BEGIN:VEVENT
DTSTART;TZID=Europe/Paris:20240912T180000
DTEND;TZID=Europe/Paris:20240912T203000
DTSTAMP:20260424T155442
CREATED:20240715T081540Z
LAST-MODIFIED:20240718T141643Z
UID:1630-1726164000-1726173000@www.enmoovement.com
SUMMARY:Marche & afterwork à Cenon avec Oasis Club et les Rayonnantes
DESCRIPTION:Trois réseaux se réunissent le jeudi 12 septembre de 18h à 20h30 pour vous proposer un événement original qui allie réseautage\, sport et bonne humeur : l’Oasis Club\, En Moov’ement et les Rayonnantes. Suivi d’un afterwork pour rencontrer les membres des autres réseaux et faire de nouvelles rencontres lors d’un moment convivial en plein air ! \nDéroulé de l’événement :\n18h : Départ de l’Oasis Coworking – petite marche\nNous vous proposons une marche d’une heure en pleine nature dans le Parc Palmer\, avec un système sur-mesure qui permet de rencontrer une grande partie des participants ! \n19h : Retour à l’Oasis Coworking – afterwork\nOn vous propose un doux mélange d’encas salés et sucrés\, de boissons bios et/ou locales\, le tout dans une atmosphère enjouée – l’opportunité de rencontrer tout le monde ! \n20h30 : l’événement se termine\, vous avez rempli votre carnet d’adresse !\nLa marche sera animée par Claire\, présidente d’En Moov’ement\, Manon présidente des Rayonnantes et Mathieu et Julie de l’Oasis Coworking. \nInscription et informations complémentaires en cliquant sur ce lien.
URL:https://www.enmoovement.com/marche/marche-afterwork-a-cenon-avec-oasis-club-et-les-rayonnantes/
LOCATION:Cenon\, Cenon\, Gironde
CATEGORIES:Marche,Marche activité
END:VEVENT
BEGIN:VEVENT
DTSTART;TZID=Europe/Paris:20240917T093000
DTEND;TZID=Europe/Paris:20240917T113000
DTSTAMP:20260424T155442
CREATED:20240613T063637Z
LAST-MODIFIED:20240613T063637Z
UID:1518-1726565400-1726572600@www.enmoovement.com
SUMMARY:Marche & atelier "Comment booster son énergie à la rentrée" à Pessac
DESCRIPTION:Mardi 17 septembre de 9h30 à 11h30\, nous aurons l’occasion de marcher entre entrepreneurs\, dans la forêt de Bourghail à Pessac. Tout est mis en place pour que tu sois constamment entouré(e) et que tu aies l’opportunité de rencontrer plusieurs entrepreneurs. Cette balade sera animée par Elodie Ajaccio\, naturopathe\, membre et animatrice marcheuse. Le thème de l’atelier : “Comment booster son énergie à la rentrée”. Vous apprendrez comment le corps fabrique de l’énergie et comment l’optimiser naturellement au mieux pendant la transition de saison vers l’automne. \nInscription et informations complémentaires en cliquant sur ce lien.
URL:https://www.enmoovement.com/marche/marche-atelier-comment-booster-son-energie-a-la-rentree-a-pessac/
LOCATION:Pessac\, Pessac\, Gironde
CATEGORIES:Marche,Marche thématique
END:VEVENT
BEGIN:VEVENT
DTSTART;TZID=Europe/Paris:20240919T093000
DTEND;TZID=Europe/Paris:20240919T120000
DTSTAMP:20260424T155442
CREATED:20240608T081615Z
LAST-MODIFIED:20240610T140745Z
UID:1474-1726738200-1726747200@www.enmoovement.com
SUMMARY:Marche & atelier se reconnecter à soi et se libérer par la créativité avec l'art thérapie à Tresses
DESCRIPTION:Le jeudi 19 septembre de 9h30 à 12h\, nous aurons l’occasion de marcher entre entrepreneurs à Tresses\, en pleine nature. Tout est mis en place pour que tu sois constamment entouré(e) et que tu aies l’opportunité de rencontrer plusieurs entrepreneurs. \nPlus d’informations et Inscriptions en cliquant sur cte lien.
URL:https://www.enmoovement.com/marche/marche-a-tresses/
LOCATION:Tresses\, Tresses\, Gironde
CATEGORIES:Marche,Marche activité
END:VEVENT
BEGIN:VEVENT
DTSTART;TZID=Europe/Paris:20240920T083000
DTEND;TZID=Europe/Paris:20240920T103000
DTSTAMP:20260424T155442
CREATED:20240718T075856Z
LAST-MODIFIED:20240718T075856Z
UID:1643-1726821000-1726828200@www.enmoovement.com
SUMMARY:Marche entre entrepreneurs à Saint - Paul à l'Ile de la Réunion
DESCRIPTION:Vendredi 20 septembre de 8h30 à 10h30\, nous aurons l’occasion de marcher entre entrepreneurs à Saint – Paul à l’Ile de la Réunion en bord de mer en pleine nature. Tout est mis en place pour que tu sois constamment entouré(e) et que tu aies l’opportunité de rencontrer plusieurs entrepreneurs. Cette balade sera animée par Anthony Creusot\, préparateur mental spécialisé en dirigeants et entrepreneurs\, membre et animateur marcheur. \nÀ bientôt pour cette marche où vous profiterez d’une atmosphère détendue et divertissante ! \nInscription et informations complémentaires en cliquant sur ce lien.
URL:https://www.enmoovement.com/marche/marche-entre-entrepreneurs-a-saint-paul-a-lile-de-la-reunion/
LOCATION:Saint-Paul\, Saint-Paul\, Ile de la Réunion
CATEGORIES:Marche
END:VEVENT
BEGIN:VEVENT
DTSTART;TZID=Europe/Paris:20240923T093000
DTEND;TZID=Europe/Paris:20240923T120000
DTSTAMP:20260424T155442
CREATED:20240608T084039Z
LAST-MODIFIED:20240702T115459Z
UID:1476-1727083800-1727092800@www.enmoovement.com
SUMMARY:Marche & atelier sur le développement personnel : asseoir sa légitimité à Bègles
DESCRIPTION:Lundi 23 septembre de 9h30 à 12h\, nous aurons l’occasion de marcher entre entrepreneurs au Parc de Mussonville à Bègles. Puis\, Louise vous propose un atelier sur le développement personnel : Asseoir sa légitimité. Tout est mis en place pour que tu sois constamment entouré(e) et que tu aies l’opportunité de rencontrer plusieurs entrepreneurs. \nPlus d’informations et Inscriptions en cliquant sur ce lien.
URL:https://www.enmoovement.com/marche/marche-a-begles/
LOCATION:Bègles\, Bègles\, Gironde
CATEGORIES:Marche,Marche thématique
END:VEVENT
BEGIN:VEVENT
DTSTART;TZID=Europe/Paris:20240924T100000
DTEND;TZID=Europe/Paris:20240924T123000
DTSTAMP:20260424T155442
CREATED:20240625T093354Z
LAST-MODIFIED:20240625T093354Z
UID:1536-1727172000-1727181000@www.enmoovement.com
SUMMARY:Marche & Collecte de déchets à la plage du Petit Nice\, Bassin d'Arcachon
DESCRIPTION:Mardi 24 septembre de 10h à 12h30\, nous organisons une Initiative Océane en collaboration avec Surfrider Foundation Europe\, une belle ONG avec de belles valeurs. Ça sera l’occasion de se réunir entre entrepreneurs pour collecter des déchets le long de la plage du petit Nice sur le Bassin d’Arcachon. Marion\, consultante RSE\, nous sensibilisera et nous présentera des solutions pour lutter contre la pollution des océans. Pour ceux qui le souhaitent\, vous pouvez apporter de quoi pique-niquer sur place après la collecte de déchets. \nInscription et informations complémentaires en cliquant sur ce lien.
URL:https://www.enmoovement.com/marche/marche-collecte-de-dechets-a-la-plage-du-petit-nice-bassin-darcachon/
LOCATION:La Teste de Buch\, La Teste-de-Buch\, Gironde\, 33260
CATEGORIES:Marche,Marche activité
END:VEVENT
END:VCALENDAR