BEGIN:VCALENDAR
VERSION:2.0
PRODID:-//En moovement - ECPv6.7.0//NONSGML v1.0//EN
CALSCALE:GREGORIAN
METHOD:PUBLISH
X-ORIGINAL-URL:https://www.enmoovement.com
X-WR-CALDESC:Évènements pour En moovement
REFRESH-INTERVAL;VALUE=DURATION:PT1H
X-Robots-Tag:noindex
X-PUBLISHED-TTL:PT1H
BEGIN:VTIMEZONE
TZID:Europe/Paris
BEGIN:DAYLIGHT
TZOFFSETFROM:+0100
TZOFFSETTO:+0200
TZNAME:CEST
DTSTART:20240331T010000
END:DAYLIGHT
BEGIN:STANDARD
TZOFFSETFROM:+0200
TZOFFSETTO:+0100
TZNAME:CET
DTSTART:20241027T010000
END:STANDARD
END:VTIMEZONE
BEGIN:VEVENT
DTSTART;TZID=Europe/Paris:20241003T120000
DTEND;TZID=Europe/Paris:20241003T140000
DTSTAMP:20260424T142626
CREATED:20240715T123421Z
LAST-MODIFIED:20240715T123421Z
UID:1639-1727956800-1727964000@www.enmoovement.com
SUMMARY:Marche & déjeuner chez les Récoltants avec l'association Les Rayonnantes à Bordeaux pour Octobre Rose
DESCRIPTION:Jeudi 3 octobre de 12h à 14h\, nous organisons une marche entre entrepreneurs avec l’association Les Rayonnantes à Bordeaux. Tout est mis en place pour que tu sois constamment entouré(e) et que tu aies l’opportunité de rencontrer plusieurs entrepreneurs. Les dons versés ce jour là par les participant(es) seront destinés à l’association Octobre Rose qui lutte contre le cancer du sein. Après une marche d’une heure sur les quais de Bordeaux\, nous déjeunerons tous ensemble chez les Récoltants\, restaurant et marché fermier bio. Ça sera l’occasion de se réunir entre entrepreneurs pour apprendre à se connaitre et échanger entre les membres des deux associations. \nQui est l’association “Les Rayonnantes”? C’est la safe place des entrepreneuses ! L’objectif ? Réunir des femmes entrepreneuses\, leur permettre de se connecter\, s’entraider\, et se tirer vers le haut dans la bienveillance et la bonne humeur !Tu es entrepreneur(se) et tu as envie de rencontrer d’autres entrepreneurs tout en soutenant une jolie cause qui est Octobre Rose\, rejoins-nous lors de cet événement. \nInscription et informations complémentaires en cliquant sur ce lien.
URL:https://www.enmoovement.com/marche/marche-dejeuner-chez-les-recoltants-avec-lassociation-les-rayonnantes-a-bordeaux-pour-octobre-rose/
LOCATION:Bordeaux\, Bordeaux\, Gironde\, 33000\, France
CATEGORIES:Marche,Marche activité
END:VEVENT
BEGIN:VEVENT
DTSTART;TZID=Europe/Paris:20241007T083000
DTEND;TZID=Europe/Paris:20241007T103000
DTSTAMP:20260424T142626
CREATED:20240918T103432Z
LAST-MODIFIED:20240918T121505Z
UID:1704-1728289800-1728297000@www.enmoovement.com
SUMMARY:Marches solidaires pour TOUS dans le cadre OCTOBRE ROSE & séminaire sur le bien-être et la santé au travail à Bordeaux
DESCRIPTION:Nous vous invitons TOUS de 8h30 à 10h30 à trois marches solidaires d’une heure dans le cadre du challenge connecté Franchise à l’occasion d’Octobre Rose dans trois villes : \nBordeaux – le 7 octobre 2024\nParis – le 16 octobre 2024\nLyon – le 21 octobre 2024 \nC’est une initiative solidaire et collective au profit de LA NIAQUE L’ASSO\, une association dédiée à l’accompagnement des femmes et des hommes après un cancer. \nInscription et informations complémentaires en cliquant sur ce lien.
URL:https://www.enmoovement.com/marche/marches-solidaires-pour-tous-dans-le-cadre-octobre-rose-seminaire-sur-le-bien-etre-et-la-sante-au-travail-a-bordeaux/
LOCATION:Bordeaux\, Bordeaux\, Gironde\, 33000\, France
CATEGORIES:Marche,Marche thématique
END:VEVENT
BEGIN:VEVENT
DTSTART;TZID=Europe/Paris:20241008T100000
DTEND;TZID=Europe/Paris:20241008T120000
DTSTAMP:20260424T142626
CREATED:20240705T044623Z
LAST-MODIFIED:20240926T070733Z
UID:1582-1728381600-1728388800@www.enmoovement.com
SUMMARY:Marche Octobre Rose & atelier soin des mains à Mérignac
DESCRIPTION:Le mardi 8 octobre de 10h à 12h\, nous aurons l’occasion de marcher entre entrepreneurs\, à Mérignac\, Conseillère en cosmétiques\, membre et animatrice marcheuse. \nEnsuite\, vous participerez à un atelier soins des mains avec Marie. Elle vous donnera des astuces pour prendre soin de vos mains et de votre peau pour affronter l’hiver\, et vous pratiquerez des points de massage\, car oui\, les mains sont un véritable labyrinthe d’informations\, et la réflexologie palmaire\, une source de détente … Alors laissez-vous porter et apprécier ce moment. \nEn référence à “Octobre Rose”\,  venez tous avec un t-shirt ou un accessoire rose ! Une photo souvenir sera faite ce jour. \nLes dons versés sur cet événement seront reversés à l’association Octobre Rose.  \nInscription et informations complémentaires en cliquant sur ce lien.
URL:https://www.enmoovement.com/marche/marche-octobre-rose-atelier-soin-des-mains-a-pessac/
LOCATION:Merignac\, Mérignac\, Gironde\, 33700\, France
CATEGORIES:Marche,Marche activité
END:VEVENT
BEGIN:VEVENT
DTSTART;TZID=Europe/Paris:20241014T093000
DTEND;TZID=Europe/Paris:20241014T114500
DTSTAMP:20260424T142626
CREATED:20240625T133832Z
LAST-MODIFIED:20240625T133832Z
UID:1538-1728898200-1728906300@www.enmoovement.com
SUMMARY:Marche & atelier sur la prospection\, Château La Louvière\, Léognan
DESCRIPTION:Le lundi 14 octobre de 9h30 à 11h45\, nous aurons l’occasion de marcher entre entrepreneurs au sein du Château La Louvière à Léognan. Cette balade sera animée par Louise Leclerc\, Consultante développement personnel et professionnel\, membre et animatrice marcheuse. Puis après cette marche\, Louise vous propose un atelier sur la prospection au sein du Château La Louvière. “Entrepreneur\, les 7 étapes de la vente associées à ton savoir-être feront toute la différence ! Rejoins-nous pour un atelier ludique et participatif !Au menu : jeu de rôles\, bonne humeur et simplicité afin d’aiguiser tes compétences de méthodologie de vente directe.” \nPuis\, il est possible pour ceux qui le souhaitent\, de continuer les échanges en faisant une visite du château La Louvière et une dégustation de vin. Le tarif est de 5 euros couvrant la visite et la dégustation de vin. Il est à payer directement au château La Louvière. Tout paiement effectué auprès de l’association ne pourra pas être transféré au château. Comptez 30 minutes supplémentaires (11h45/12h15). \nInscription et informations complémentaires en cliquant sur ce lien.
URL:https://www.enmoovement.com/marche/marche-atelier-sur-la-prospection-chateau-la-louviere-leognan/
LOCATION:Léognan\, Léognan\, Gironde
CATEGORIES:Marche,Marche thématique
END:VEVENT
BEGIN:VEVENT
DTSTART;TZID=Europe/Paris:20241017T100000
DTEND;TZID=Europe/Paris:20241017T120000
DTSTAMP:20260424T142626
CREATED:20240613T073526Z
LAST-MODIFIED:20240613T073526Z
UID:1520-1729159200-1729166400@www.enmoovement.com
SUMMARY:Marche & atelier “Comment éviter le burn-out ?" à Bordeaux
DESCRIPTION:Jeudi 17 octobre de 10h à 12h\, nous aurons l’occasion de marcher\, à la Réserve écologique des Barails et au Parc Floral de Bordeaux. Tout est mis en place pour que tu sois constamment entouré(e) et que tu aies l’opportunité de rencontrer plusieurs entrepreneurs. Pendant cette marche\, Elodie\, naturopathe\, nous partagera ses connaissances sur son thème de prédilection. “Comment éviter le burn-out? Vous apprendrez comment reconnaître les signes avant-coureurs pour mieux vous prévenir. Vous allez comprendre de manière simple les mécanismes de notre corps pour gérer son énergie et le stress et vous repartirez avec des ressources concrètes pour vous soutenir au quotidien et durablement.” \nInscription et informations complémentaires en cliquant sur ce lien. \n \n 
URL:https://www.enmoovement.com/marche/marche-atelier-comment-eviter-le-burn-out-a-bordeaux/
LOCATION:Bordeaux\, Bordeaux\, Gironde\, 33000\, France
CATEGORIES:Marche,Marche thématique
END:VEVENT
END:VCALENDAR