BEGIN:VCALENDAR
VERSION:2.0
PRODID:-//En moovement - ECPv6.7.0//NONSGML v1.0//EN
CALSCALE:GREGORIAN
METHOD:PUBLISH
X-ORIGINAL-URL:https://www.enmoovement.com
X-WR-CALDESC:Évènements pour En moovement
REFRESH-INTERVAL;VALUE=DURATION:PT1H
X-Robots-Tag:noindex
X-PUBLISHED-TTL:PT1H
BEGIN:VTIMEZONE
TZID:Europe/Paris
BEGIN:DAYLIGHT
TZOFFSETFROM:+0100
TZOFFSETTO:+0200
TZNAME:CEST
DTSTART:20240331T010000
END:DAYLIGHT
BEGIN:STANDARD
TZOFFSETFROM:+0200
TZOFFSETTO:+0100
TZNAME:CET
DTSTART:20241027T010000
END:STANDARD
END:VTIMEZONE
BEGIN:VEVENT
DTSTART;TZID=Europe/Paris:20241202T100000
DTEND;TZID=Europe/Paris:20241202T123000
DTSTAMP:20260420T105436
CREATED:20240920T092403Z
LAST-MODIFIED:20240920T114412Z
UID:1713-1733133600-1733142600@www.enmoovement.com
SUMMARY:Marche & atelier brainstorming au Château du Taillan au Taillan-Médoc
DESCRIPTION:Le lundi 2 décembre de 10h à 12h30\, nous aurons l’occasion de marcher entre entrepreneurs au Taillan-Médoc. Tout est mis en place pour que tu sois constamment entouré(e) et que tu aies l’opportunité de rencontrer plusieurs entrepreneurs. Cette balade sera animée par Elodie Ajaccio\, conseil en santé préventive\, spécialisée burnout et Claire Hebrard\, fondatrice de l’association. Après la marche\, nous irons au Château du Taillan pour l’atelier “Brainstorming”.  \nL’atelier de brainstorming utilise l’intelligence collective. Les entrepreneurs sont réunit en groupes de réflexion pour résoudre la problématique de chaque entrepreneur présent. Les participants génèrent un grand nombre d’idées sans jugement\, puis évaluent et priorisent les solutions les plus pertinentes. L’objectif est d’exploiter la diversité des perspectives pour proposer des solutions innovantes et concrètes. \nEntrepreneurs\, apportez votre problématique\, et ensemble\, nous trouverons des solutions adaptées et efficaces ! \nInscription et informations complémentaires en cliquant sur ce lien. \n \n 
URL:https://www.enmoovement.com/marche/marche-atelier-brainstorming-au-chateau-du-taillan/
LOCATION:Le Taillan-Médoc\, Le Taillan-Médoc\, France
CATEGORIES:Marche,Marche thématique
END:VEVENT
BEGIN:VEVENT
DTSTART;TZID=Europe/Paris:20241212T093000
DTEND;TZID=Europe/Paris:20241212T120000
DTSTAMP:20260420T105436
CREATED:20241010T145739Z
LAST-MODIFIED:20241030T073155Z
UID:1739-1733995800-1734004800@www.enmoovement.com
SUMMARY:Marche & atelier Linkedin à Pessac à La Table d'Adamah
DESCRIPTION:Jeudi 12 décembre de 9h30 à 12h\, nous aurons l’occasion de marcher entre entrepreneurs à Pessac. Tout est mis en place pour que tu sois constamment entouré(e) et que tu aies l’opportunité de rencontrer plusieurs entrepreneurs. Après la marche\, nous sommes accueillis au restaurant La Table d’Adamah pour l’atelier “LINKEDIN” avec Pauline Kara Mikinda\, Consultante Marketing et Social Selling LinkedIn. \nInscription et informations complémentaires en cliquant sur ce lien.
URL:https://www.enmoovement.com/marche/marche-atelier-linkedin-a-pessac/
LOCATION:Pessac\, Pessac\, Gironde
CATEGORIES:Marche,Marche thématique
END:VEVENT
BEGIN:VEVENT
DTSTART;TZID=Europe/Paris:20241213T093000
DTEND;TZID=Europe/Paris:20241213T120000
DTSTAMP:20260420T105436
CREATED:20241008T151825Z
LAST-MODIFIED:20241030T073118Z
UID:1736-1734082200-1734091200@www.enmoovement.com
SUMMARY:Marche et atelier respire à Gradignan à Soin de Soi
DESCRIPTION:Le vendredi 13 décembre de 9h30 à 12h\, nous aurons l’occasion de marcher entre entrepreneurs en pleine nature\, au Parc Moulineau et Mandavit à Gradignan\, à seulement 2 minutes à pied du Labo Soin de Soi. Tout est mis en place pour que tu sois constamment entouré(e) et que tu aies l’opportunité de rencontrer plusieurs entrepreneurs. Ensuite\, tu assisteras à un atelier collectif “Respire” avec Fabienne Lecoutre\, thérapeute psychocorporel. \nC’est quoi un atelier RESPIRE ? C’est un instant relaxation et méditation\, ludique et interactif avec des jeux\, des quizz pour éveiller la conscience du fonctionnement du corps et de l’esprit. Les techniques vont permettre de diminuer les tensions musculaires\, la tension artérielle\, la fréquence cardiaque et le rythme de la respiration. Le but est de se recentrer\, de prendre du recul grâce à des exercices simples de respiration\, des exercices de relaxation de dynamique mettant le corps en mouvement. L’ambition est que chaque participant reparte avec des outils simples à utiliser au quotidien pour mieux gérer le stress. \nPuis\, Nelly de Soin de Soi te fera une visite guidée du laboratoire Soin de Soi. Le Labo Soin de soi propose pour ceux qui souhaitent prolonger les échanges\, d’organiser un repas partagé façon auberge espagnole\, où chacun apporte un plat à partager. Pour plus de facilité\, tu peux aussi apporter ton propre repas\, l’essentiel est de partager ce moment ensemble. Le déjeuner aura lieu à partir de 12h\, après la visite guidée du lieu. \nInscription et informations complémentaires en cliquant sur ce lien. \n \n 
URL:https://www.enmoovement.com/marche/marche-et-atelier-respire-a-gradignan/
LOCATION:Gradignan\, Gradignan\, Gironde
CATEGORIES:Marche,Marche activité
END:VEVENT
BEGIN:VEVENT
DTSTART;TZID=Europe/Paris:20241216T100000
DTEND;TZID=Europe/Paris:20241216T123000
DTSTAMP:20260420T105436
CREATED:20240925T121943Z
LAST-MODIFIED:20241008T160045Z
UID:1729-1734343200-1734352200@www.enmoovement.com
SUMMARY:Marche & collecte de déchets entre entrepreneurs autour des 2 Ponts à Bordeaux
DESCRIPTION:Lundi 16 décembre de 10h à 12h30\, nous organisons une Initiative Océane en collaboration avec Surfrider Foundation Europe\, une belle ONG avec de belles valeurs.Ça sera l’occasion de se réunir entre entrepreneurs pour collecter des déchets autour des 2 ponts à Bordeaux. Marion\, consultante RSE et bénévole chez Surfrider\, nous sensibilisera et nous présentera des solutions pour lutter contre la pollution des océans. \nÀ bientôt pour cette Initiative Océane où vous profiterez d’une atmosphère détendue et enrichissante. \nInscription et informations complémentaires en cliquant sur ce lien.
URL:https://www.enmoovement.com/marche/marche-marche-collecte-de-dechets-entre-entrepreneurs-autour-des-2-ponts-a-bordeaux/
LOCATION:Bordeaux\, Bordeaux\, Gironde\, 33000\, France
CATEGORIES:Marche,Marche activité
END:VEVENT
BEGIN:VEVENT
DTSTART;TZID=Europe/Paris:20241217T100000
DTEND;TZID=Europe/Paris:20241217T123000
DTSTAMP:20260420T105436
CREATED:20240920T114304Z
LAST-MODIFIED:20240920T114304Z
UID:1716-1734429600-1734438600@www.enmoovement.com
SUMMARY:Marche & coaching en nature au Château Gassies à Latresne
DESCRIPTION:Mardi 17 décembre de 10h à 12h30 \, nous aurons l’occasion de marcher entre entrepreneurs à Latresne en pleine nature. Tout est mis en place pour que tu sois constamment entouré(e) et que tu aies l’opportunité de rencontrer plusieurs entrepreneurs. \nAprès un peu plus d’une heure de marche\, nous nous retrouverons au sein du Château Gassies. \nJulie Enselme\, coach professionnel\, nous partagera ses connaissances sur le développement personnel. \nInscription et informations complémentaires en cliquant sur ce lien.
URL:https://www.enmoovement.com/marche/marche-coaching-en-nature-au-chateau-gassies-a-latresne/
LOCATION:Latresne\, Latresne\, Gironde\, France
CATEGORIES:Marche,Marche thématique
END:VEVENT
END:VCALENDAR