BEGIN:VCALENDAR
VERSION:2.0
PRODID:-//En moovement - ECPv6.7.0//NONSGML v1.0//EN
CALSCALE:GREGORIAN
METHOD:PUBLISH
X-ORIGINAL-URL:https://www.enmoovement.com
X-WR-CALDESC:Évènements pour En moovement
REFRESH-INTERVAL;VALUE=DURATION:PT1H
X-Robots-Tag:noindex
X-PUBLISHED-TTL:PT1H
BEGIN:VTIMEZONE
TZID:Europe/Paris
BEGIN:DAYLIGHT
TZOFFSETFROM:+0100
TZOFFSETTO:+0200
TZNAME:CEST
DTSTART:20250330T010000
END:DAYLIGHT
BEGIN:STANDARD
TZOFFSETFROM:+0200
TZOFFSETTO:+0100
TZNAME:CET
DTSTART:20251026T010000
END:STANDARD
END:VTIMEZONE
BEGIN:VEVENT
DTSTART;TZID=Europe/Paris:20250106T093000
DTEND;TZID=Europe/Paris:20250106T120000
DTSTAMP:20260420T091747
CREATED:20241015T153203Z
LAST-MODIFIED:20241015T153203Z
UID:1741-1736155800-1736164800@www.enmoovement.com
SUMMARY:Marche & atelier sur le développement personnel : "asseoir sa légitimité" au Château La Louvière à Léognan
DESCRIPTION:Lundi 6 janvier de 9h30 à 12h\, nous aurons l’occasion de marcher entre entrepreneurs au sein du Château La Louvière à Léognan. Tout est mis en place pour que tu sois constamment entouré(e) et que tu aies l’opportunité de rencontrer plusieurs entrepreneurs. \nPuis après cette marche\, Louise Leclerc\, Consultante développement personnel et professionnel\, vous propose un atelier sur le développement personnel : asseoir sa légitimité au sein du Château La Louvière. “Trop souvent\, nous laissons nos doutes et nos peurs nous empêcher de prendre notre place et d’exprimer notre légitimité aussi bien sur le plan professionnel\, personnel que social. Préparez-vous à explorer vos croyances limitantes\, à vous libérer de vos freins et vous élever vers votre plein potentiel.Ensemble\, apprenons à asseoir notre légitimité et à rayonner de confiance et d’authenticité.” \nInscription et informations complémentaires en cliquant sur ce lien. \n \n 
URL:https://www.enmoovement.com/marche/marche-atelier-sur-le-developpement-personnel-asseoir-sa-legitimite-au-chateau-la-louviere-a-leognan/
LOCATION:Léognan\, Léognan\, Gironde
CATEGORIES:Marche,Marche thématique
END:VEVENT
BEGIN:VEVENT
DTSTART;TZID=Europe/Paris:20250116T093000
DTEND;TZID=Europe/Paris:20250116T120000
DTSTAMP:20260420T091747
CREATED:20241015T181736Z
LAST-MODIFIED:20241015T181736Z
UID:1743-1737019800-1737028800@www.enmoovement.com
SUMMARY:Marche & atelier "trouver son animal totem" à Yvrac au Domaine Grand Jour
DESCRIPTION:Le jeudi 16 janvier de 9h30 à 12h\, nous aurons l’occasion de marcher entre entrepreneurs en pleine nature\, à la découverte du village d’Yvrac\, autour du Domaine Grand Jour\, entre forêt et vignes. Tout est mis en place pour que tu sois constamment entouré(e) et que tu aies l’opportunité de rencontrer plusieurs entrepreneurs. \nPuis après la marche\, Laurence Delpech\, Coach en neurosciences quantique\, nous animera son atelier “Trouver son animal totem” au sein du Domaine Grand Jour dans la magnifique salle de réception. Vous irez dans une introspection personnelle\, Laurence vous amènera dans une méditation au son du tambour pour voyager où vous pourrez découvrir votre animal de pouvoir. \nInfos & inscriptions sur ce lien.
URL:https://www.enmoovement.com/marche/marche-atelier-trouver-son-animal-totem-a-yvrac-au-domaine-grand-jour/
LOCATION:Yvrac\, Yvrac\, Gironde
CATEGORIES:Marche,Marche thématique
END:VEVENT
BEGIN:VEVENT
DTSTART;TZID=Europe/Paris:20250121T140000
DTEND;TZID=Europe/Paris:20250121T160000
DTSTAMP:20260420T091747
CREATED:20241105T174410Z
LAST-MODIFIED:20241105T174410Z
UID:1775-1737468000-1737475200@www.enmoovement.com
SUMMARY:Marche & atelier "Sophrologie Olfactive" à Mérignac
DESCRIPTION:Mardi 21 janvier de 14h à 16h\, nous aurons l’occasion de marcher entre entrepreneurs à Mérignac. Tout est mis en place pour que tu sois constamment entouré(e) et que tu aies l’opportunité de rencontrer plusieurs entrepreneurs. Cette balade sera animée par Marie Gonzalez\, Conseillère en cosmétiques\, membre et animatrice marcheuse. Ensuite\, vous participerez à un atelier “Sophrologie Olfactive” avec Marie Gonzalez et  et Aurélie Gaignard sophrologue\, prévention\, santé et QVT. \nÀ bientôt pour cette marche où vous profiterez d’une atmosphère détendue et divertissante ! \nInfos & inscriptions ici. 
URL:https://www.enmoovement.com/marche/marche-atelier-sophrologie-olfactive-a-merignac/
LOCATION:Merignac\, Mérignac\, Gironde\, 33700\, France
CATEGORIES:Marche,Marche activité
END:VEVENT
BEGIN:VEVENT
DTSTART;TZID=Europe/Paris:20250124T100000
DTEND;TZID=Europe/Paris:20250124T120000
DTSTAMP:20260420T091747
CREATED:20241029T104936Z
LAST-MODIFIED:20241030T073045Z
UID:1759-1737712800-1737720000@www.enmoovement.com
SUMMARY:Marche & atelier micronutrition à Bordeaux\, Magasin Mori
DESCRIPTION:Vendredi 24 janvier de 10h à 12h nous aurons l’occasion de marcher entre entrepreneurs à Bordeaux. Tout est mis en place pour que tu sois constamment entouré(e) et que tu aies l’opportunité de rencontrer plusieurs entrepreneurs. Après la marche\, nous nous retrouverons au sein de Mori\, un lieu de santé axé sur la nutrition pour un atelier sur la micronutrition avec Anne-Sophie Darrigade\, médecin dermatologue. À bientôt pour cette marche où vous profiterez d’une atmosphère détendue\, divertissante et pédagogique \n\n\nInfos & inscriptions sur ce lien.
URL:https://www.enmoovement.com/marche/marche-atelier-micronutrition-a-bordeaux/
LOCATION:Bordeaux\, Bordeaux\, Gironde\, 33000\, France
CATEGORIES:Marche,Marche thématique
END:VEVENT
BEGIN:VEVENT
DTSTART;TZID=Europe/Paris:20250127T140000
DTEND;TZID=Europe/Paris:20250127T160000
DTSTAMP:20260420T091747
CREATED:20241030T072731Z
LAST-MODIFIED:20241030T072858Z
UID:1761-1737986400-1737993600@www.enmoovement.com
SUMMARY:Marche & atelier brainstorming Le Bouscat au sein de JFG Clinic
DESCRIPTION:Lundi 27 janvier de 14h à 16h\, nous aurons l’occasion de marcher entre entrepreneurs au Bouscat. Tout est mis en place pour que tu sois constamment entouré(e) et que tu aies l’opportunité de rencontrer plusieurs entrepreneurs. Cette balade sera animée par Claire Hebrard\, fondatrice de l’association. \nAprès la marche\, nous irons au JFG Clinic Le Bouscat pour l’atelier de brainstorming : \nCet atelier utilise l’intelligence collective. Les entrepreneurs sont réunit en groupes de réflexion pour résoudre la problématique de chaque entrepreneur présent. Les participants génèrent un grand nombre d’idées sans jugement\, puis évaluent et priorisent les solutions les plus pertinentes. L’objectif est d’exploiter la diversité des perspectives pour proposer des solutions innovantes et concrètes. \nEntrepreneurs\, apportez votre problématique\, et ensemble\, nous trouverons des solutions adaptées et efficaces ! \nInscriptions & infos sur ce lien ici.
URL:https://www.enmoovement.com/marche/marche-atelier-brainstorming-le-bouscat/
LOCATION:Le Bouscat\, Le Bouscat\, France
CATEGORIES:Marche,Marche thématique
END:VEVENT
END:VCALENDAR