BEGIN:VCALENDAR
VERSION:2.0
PRODID:-//En moovement - ECPv6.7.0//NONSGML v1.0//EN
CALSCALE:GREGORIAN
METHOD:PUBLISH
X-WR-CALNAME:En moovement
X-ORIGINAL-URL:https://www.enmoovement.com
X-WR-CALDESC:Évènements pour En moovement
REFRESH-INTERVAL;VALUE=DURATION:PT1H
X-Robots-Tag:noindex
X-PUBLISHED-TTL:PT1H
BEGIN:VTIMEZONE
TZID:Europe/Paris
BEGIN:DAYLIGHT
TZOFFSETFROM:+0100
TZOFFSETTO:+0200
TZNAME:CEST
DTSTART:20240331T010000
END:DAYLIGHT
BEGIN:STANDARD
TZOFFSETFROM:+0200
TZOFFSETTO:+0100
TZNAME:CET
DTSTART:20241027T010000
END:STANDARD
END:VTIMEZONE
BEGIN:VEVENT
DTSTART;TZID=Europe/Paris:20240527T100000
DTEND;TZID=Europe/Paris:20240527T120000
DTSTAMP:20260425T000101
CREATED:20240525T135820Z
LAST-MODIFIED:20240528T095518Z
UID:1070-1716804000-1716811200@www.enmoovement.com
SUMMARY:Marche à la Réserve écologique de Barails à Bordeaux
DESCRIPTION:L’association En Moov’ement offre un espace privilégié pour les entrepreneurs afin de s’éloigner du contexte professionnel\, marcher\, se rencontrer\, échanger\, apprendre\, se soutenir mutuellement et participer à des activités team-building et mieux-être\, le tout en profitant des bienfaits de la nature. \nInscription et informations complémentaires en cliquant sur ce lien.
URL:https://www.enmoovement.com/marche/marche-a-la-reserve-ecologique-de-barails-a-bordeaux/
LOCATION:Bordeaux\, Bordeaux\, Gironde\, 33000\, France
CATEGORIES:Marche activité
END:VEVENT
END:VCALENDAR