BEGIN:VCALENDAR
VERSION:2.0
PRODID:-//En moovement - ECPv6.7.0//NONSGML v1.0//EN
CALSCALE:GREGORIAN
METHOD:PUBLISH
X-ORIGINAL-URL:https://www.enmoovement.com
X-WR-CALDESC:Évènements pour En moovement
REFRESH-INTERVAL;VALUE=DURATION:PT1H
X-Robots-Tag:noindex
X-PUBLISHED-TTL:PT1H
BEGIN:VTIMEZONE
TZID:Europe/Paris
BEGIN:DAYLIGHT
TZOFFSETFROM:+0100
TZOFFSETTO:+0200
TZNAME:CEST
DTSTART:20240331T010000
END:DAYLIGHT
BEGIN:STANDARD
TZOFFSETFROM:+0200
TZOFFSETTO:+0100
TZNAME:CET
DTSTART:20241027T010000
END:STANDARD
END:VTIMEZONE
BEGIN:VEVENT
DTSTART;TZID=Europe/Paris:20240603T120000
DTEND;TZID=Europe/Paris:20240603T143000
DTSTAMP:20260424T223657
CREATED:20240525T140245Z
LAST-MODIFIED:20240528T095306Z
UID:1078-1717416000-1717425000@www.enmoovement.com
SUMMARY:Marche à Hossegor\, 40
DESCRIPTION:Lundi 3 juin de 12h à 14h30\, nous aurons l’occasion de marcher\, autour du lac d’Hossegor. Tout est mis en place pour que tu sois constamment entouré(e) et que tu aies l’opportunité de rencontrer plusieurs entrepreneurs. \nNous poursuivrons ensuite nos échanges lors d’un pique-nique où chacun apporte son casse-croûte. Puis\, place à l’atelier d’ 1h : “l’art de communiquer” avec Marc Dujarric\, coach mindset\, super passionnant ! Inscription et informations complémentaires en cliquant sur ce lien.
URL:https://www.enmoovement.com/marche/marche-a-hossegor-40/
LOCATION:Hossegor\, Hossegor\, Les Landes\, 40304\, France
CATEGORIES:Marche
END:VEVENT
END:VCALENDAR