BEGIN:VCALENDAR
VERSION:2.0
PRODID:-//En moovement - ECPv6.7.0//NONSGML v1.0//EN
CALSCALE:GREGORIAN
METHOD:PUBLISH
X-ORIGINAL-URL:https://www.enmoovement.com
X-WR-CALDESC:Évènements pour En moovement
REFRESH-INTERVAL;VALUE=DURATION:PT1H
X-Robots-Tag:noindex
X-PUBLISHED-TTL:PT1H
BEGIN:VTIMEZONE
TZID:Europe/Paris
BEGIN:DAYLIGHT
TZOFFSETFROM:+0100
TZOFFSETTO:+0200
TZNAME:CEST
DTSTART:20240331T010000
END:DAYLIGHT
BEGIN:STANDARD
TZOFFSETFROM:+0200
TZOFFSETTO:+0100
TZNAME:CET
DTSTART:20241027T010000
END:STANDARD
END:VTIMEZONE
BEGIN:VEVENT
DTSTART;TZID=Europe/Paris:20240605T110000
DTEND;TZID=Europe/Paris:20240605T130000
DTSTAMP:20260424T223605
CREATED:20240525T140636Z
LAST-MODIFIED:20240528T095250Z
UID:1082-1717585200-1717592400@www.enmoovement.com
SUMMARY:Marche et pique-nique à Berson\, à 10 min de Blaye
DESCRIPTION:Mercredi 5 juin de 11h à 13h\, nous aurons l’occasion de marcher\, à Berson\, proche de Blaye\, en pleine nature. Tout est mis en place pour que tu sois constamment entouré(e) et que tu aies l’opportunité de rencontrer plusieurs entrepreneurs. \nAprès cette jolie balade à travers vignes\, nature\, nous continuerons nos échanges en pique-niquant dans les magnifiques jardins de la Maison Forte de Boisset. Inscription et informations complémentaires en cliquant sur ce lien.
URL:https://www.enmoovement.com/marche/marche-et-pique-nique-a-berson-a-10-min-de-blaye/
LOCATION:Berson\, Berson\, Gironde\, 33390\, France
CATEGORIES:Marche
END:VEVENT
END:VCALENDAR