BEGIN:VCALENDAR
VERSION:2.0
PRODID:-//En moovement - ECPv6.7.0//NONSGML v1.0//EN
CALSCALE:GREGORIAN
METHOD:PUBLISH
X-WR-CALNAME:En moovement
X-ORIGINAL-URL:https://www.enmoovement.com
X-WR-CALDESC:Évènements pour En moovement
REFRESH-INTERVAL;VALUE=DURATION:PT1H
X-Robots-Tag:noindex
X-PUBLISHED-TTL:PT1H
BEGIN:VTIMEZONE
TZID:Europe/Paris
BEGIN:DAYLIGHT
TZOFFSETFROM:+0100
TZOFFSETTO:+0200
TZNAME:CEST
DTSTART:20240331T010000
END:DAYLIGHT
BEGIN:STANDARD
TZOFFSETFROM:+0200
TZOFFSETTO:+0100
TZNAME:CET
DTSTART:20241027T010000
END:STANDARD
END:VTIMEZONE
BEGIN:VEVENT
DTSTART;TZID=Europe/Paris:20240611T100000
DTEND;TZID=Europe/Paris:20240611T113000
DTSTAMP:20260424T223359
CREATED:20240528T114201Z
LAST-MODIFIED:20240610T143132Z
UID:1217-1718100000-1718105400@www.enmoovement.com
SUMMARY:Marche Cani-randonnée à Villandraut
DESCRIPTION:Le mardi 11 juin à 10h\, nous aurons l’occasion de marcher pendant 1h30 entre entrepreneurs\, dans la forêt de Villandrault. \nLors de cette marche insolite\, pratiquez la cani-randonnée avec les chiens nordiques de Mush Gironde\, encadré par Nicolas Mary\, éducateur sportif diplômé d’état. Plus d’informations et Inscriptions en cliquant sur ce lien.
URL:https://www.enmoovement.com/marche/marche-a-villandraut-0624/
LOCATION:Villandraut\, Gironde\, 33730
CATEGORIES:Marche activité
END:VEVENT
END:VCALENDAR