BEGIN:VCALENDAR
VERSION:2.0
PRODID:-//En moovement - ECPv6.7.0//NONSGML v1.0//EN
CALSCALE:GREGORIAN
METHOD:PUBLISH
X-WR-CALNAME:En moovement
X-ORIGINAL-URL:https://www.enmoovement.com
X-WR-CALDESC:Évènements pour En moovement
REFRESH-INTERVAL;VALUE=DURATION:PT1H
X-Robots-Tag:noindex
X-PUBLISHED-TTL:PT1H
BEGIN:VTIMEZONE
TZID:Europe/Paris
BEGIN:DAYLIGHT
TZOFFSETFROM:+0100
TZOFFSETTO:+0200
TZNAME:CEST
DTSTART:20240331T010000
END:DAYLIGHT
BEGIN:STANDARD
TZOFFSETFROM:+0200
TZOFFSETTO:+0100
TZNAME:CET
DTSTART:20241027T010000
END:STANDARD
END:VTIMEZONE
BEGIN:VEVENT
DTSTART;TZID=Europe/Paris:20240619T100000
DTEND;TZID=Europe/Paris:20240619T110000
DTSTAMP:20260424T223350
CREATED:20240525T133803Z
LAST-MODIFIED:20240610T142647Z
UID:1064-1718791200-1718794800@www.enmoovement.com
SUMMARY:Marche & observation de la nature à Bruges
DESCRIPTION:Mercredi 19 juin de 10h à 11h\, nous aurons l’occasion de marcher à Bruges à La Réserve Naturelle Nationale des Marais de Bruges en pleine nature. Tout est mis en place pour que tu sois constamment entouré(e) et que tu aies l’opportunité de rencontrer plusieurs entrepreneurs. \nInscription et informations complémentaires en cliquant sur ce lien.
URL:https://www.enmoovement.com/marche/marche-a-bruges/
LOCATION:Bruges\, Bruges\, Gironde
CATEGORIES:Marche,Marche thématique
END:VEVENT
END:VCALENDAR