BEGIN:VCALENDAR
VERSION:2.0
PRODID:-//En moovement - ECPv6.7.0//NONSGML v1.0//EN
CALSCALE:GREGORIAN
METHOD:PUBLISH
X-ORIGINAL-URL:https://www.enmoovement.com
X-WR-CALDESC:Évènements pour En moovement
REFRESH-INTERVAL;VALUE=DURATION:PT1H
X-Robots-Tag:noindex
X-PUBLISHED-TTL:PT1H
BEGIN:VTIMEZONE
TZID:Europe/Paris
BEGIN:DAYLIGHT
TZOFFSETFROM:+0100
TZOFFSETTO:+0200
TZNAME:CEST
DTSTART:20240331T010000
END:DAYLIGHT
BEGIN:STANDARD
TZOFFSETFROM:+0200
TZOFFSETTO:+0100
TZNAME:CET
DTSTART:20241027T010000
END:STANDARD
END:VTIMEZONE
BEGIN:VEVENT
DTSTART;TZID=Europe/Paris:20240620T120000
DTEND;TZID=Europe/Paris:20240620T140000
DTSTAMP:20260425T000149
CREATED:20240525T142029Z
LAST-MODIFIED:20240610T143033Z
UID:1095-1718884800-1718892000@www.enmoovement.com
SUMMARY:Marche\, dégustation de vins & tapas à Villegouge\, à 15 min de Libourne
DESCRIPTION:Jeudi 20 juin de 12h à 14h\, nous aurons l’occasion de marcher\, à Villegouge autour du Château Boutinet pour une rando tapas. Au programme\, une balade commentée à pied\, et des vins et Tapas à déguster. La participation à la marche est fixée à 15 euros\, couvrant les frais de préparation ainsi que la dégustation des tapas et du vin. Paiement sur place directement au Château Boutinet. \nInscription et informations complémentaires en cliquant sur ce lien.
URL:https://www.enmoovement.com/marche/rando-tapas-a-villegouge-a-15-min-de-libourne/
LOCATION:Villegouge\, Villegouge\, Gironde\, 33141\, France
CATEGORIES:Marche,Marche activité
END:VEVENT
END:VCALENDAR