BEGIN:VCALENDAR
VERSION:2.0
PRODID:-//En moovement - ECPv6.7.0//NONSGML v1.0//EN
CALSCALE:GREGORIAN
METHOD:PUBLISH
X-WR-CALNAME:En moovement
X-ORIGINAL-URL:https://www.enmoovement.com
X-WR-CALDESC:Évènements pour En moovement
REFRESH-INTERVAL;VALUE=DURATION:PT1H
X-Robots-Tag:noindex
X-PUBLISHED-TTL:PT1H
BEGIN:VTIMEZONE
TZID:Europe/Paris
BEGIN:DAYLIGHT
TZOFFSETFROM:+0100
TZOFFSETTO:+0200
TZNAME:CEST
DTSTART:20240331T010000
END:DAYLIGHT
BEGIN:STANDARD
TZOFFSETFROM:+0200
TZOFFSETTO:+0100
TZNAME:CET
DTSTART:20241027T010000
END:STANDARD
END:VTIMEZONE
BEGIN:VEVENT
DTSTART;TZID=Europe/Paris:20240625T183000
DTEND;TZID=Europe/Paris:20240625T210000
DTSTAMP:20260424T223400
CREATED:20240528T081815Z
LAST-MODIFIED:20240610T142453Z
UID:1184-1719340200-1719349200@www.enmoovement.com
SUMMARY:Marche & afterwork à la Dune du Pyla à La Teste de Buch
DESCRIPTION:Le mardi 25 juin de 18h30 à 21h\, nous aurons l’occasion de marcher le long de la plage direction la Dune du Pyla. On grimpera au sommet de la plus haute dune d’Europe pour profiter d’un afterwork entre entrepreneurs avec une vue incroyable sur le Bassin d’Arcachon. Tout est mis en place pour que tu sois constamment entouré(e) et que tu aies l’opportunité de rencontrer plusieurs entrepreneurs. \nInscription et informations complémentaires en cliquant sur ce lien. \n \n 
URL:https://www.enmoovement.com/marche/marche-et-afterwork-a-la-dune-du-pyla/
LOCATION:La Teste de Buch\, La Teste-de-Buch\, Gironde\, 33260
CATEGORIES:Marche,Marche activité
END:VEVENT
END:VCALENDAR