BEGIN:VCALENDAR
VERSION:2.0
PRODID:-//En moovement - ECPv6.7.0//NONSGML v1.0//EN
CALSCALE:GREGORIAN
METHOD:PUBLISH
X-WR-CALNAME:En moovement
X-ORIGINAL-URL:https://www.enmoovement.com
X-WR-CALDESC:Évènements pour En moovement
REFRESH-INTERVAL;VALUE=DURATION:PT1H
X-Robots-Tag:noindex
X-PUBLISHED-TTL:PT1H
BEGIN:VTIMEZONE
TZID:Europe/Paris
BEGIN:DAYLIGHT
TZOFFSETFROM:+0100
TZOFFSETTO:+0200
TZNAME:CEST
DTSTART:20240331T010000
END:DAYLIGHT
BEGIN:STANDARD
TZOFFSETFROM:+0200
TZOFFSETTO:+0100
TZNAME:CET
DTSTART:20241027T010000
END:STANDARD
END:VTIMEZONE
BEGIN:VEVENT
DTSTART;TZID=Europe/Paris:20240701T093000
DTEND;TZID=Europe/Paris:20240701T120000
DTSTAMP:20260424T210545
CREATED:20240525T142914Z
LAST-MODIFIED:20240610T141915Z
UID:1110-1719826200-1719835200@www.enmoovement.com
SUMMARY:Marche & atelier sur la prospection à Lormont
DESCRIPTION:Le lundi 1 juillet de 9h30 à 12h\, nous aurons l’occasion de marcher entre entrepreneurs au Parc de l’Ermitage à Lormont. Tout est mis en place pour que tu sois constamment entouré(e) et que tu aies l’opportunité de rencontrer plusieurs entrepreneurs. \nInscription et informations complémentaires en cliquant sur ce lien.
URL:https://www.enmoovement.com/marche/marche-a-lormont/
LOCATION:Lormont\, Lormont\, Gironde\, 33310\, France
CATEGORIES:Marche,Marche thématique
END:VEVENT
END:VCALENDAR