BEGIN:VCALENDAR
VERSION:2.0
PRODID:-//En moovement - ECPv6.7.0//NONSGML v1.0//EN
CALSCALE:GREGORIAN
METHOD:PUBLISH
X-ORIGINAL-URL:https://www.enmoovement.com
X-WR-CALDESC:Évènements pour En moovement
REFRESH-INTERVAL;VALUE=DURATION:PT1H
X-Robots-Tag:noindex
X-PUBLISHED-TTL:PT1H
BEGIN:VTIMEZONE
TZID:Europe/Paris
BEGIN:DAYLIGHT
TZOFFSETFROM:+0100
TZOFFSETTO:+0200
TZNAME:CEST
DTSTART:20240331T010000
END:DAYLIGHT
BEGIN:STANDARD
TZOFFSETFROM:+0200
TZOFFSETTO:+0100
TZNAME:CET
DTSTART:20241027T010000
END:STANDARD
END:VTIMEZONE
BEGIN:VEVENT
DTSTART;TZID=Europe/Paris:20240716T100000
DTEND;TZID=Europe/Paris:20240716T120000
DTSTAMP:20260424T210727
CREATED:20240606T062816Z
LAST-MODIFIED:20240610T141206Z
UID:1251-1721124000-1721131200@www.enmoovement.com
SUMMARY:Marche & atelier soin des pieds à Pessac
DESCRIPTION:Le mardi 16 juillet de 10h à 12h\, nous aurons l’occasion de marcher entre entrepreneurs\, à Pessac. Ensuite\, nous nous occuperons de nos pieds et Marie vous fera découvrir les bienfaits d’une bonne routine “soin des pieds” pour ne jamais plus les laisser sécher. Tout est mis en place pour que tu sois constamment entouré(e) et que tu aies l’opportunité de rencontrer plusieurs entrepreneurs. \nInscription et informations complémentaires en cliquant sur ce lien.
URL:https://www.enmoovement.com/marche/marche-a-pessac/
LOCATION:Pessac\, Pessac\, Gironde
CATEGORIES:Marche,Marche activité
END:VEVENT
END:VCALENDAR