BEGIN:VCALENDAR
VERSION:2.0
PRODID:-//En moovement - ECPv6.7.0//NONSGML v1.0//EN
CALSCALE:GREGORIAN
METHOD:PUBLISH
X-ORIGINAL-URL:https://www.enmoovement.com
X-WR-CALDESC:Évènements pour En moovement
REFRESH-INTERVAL;VALUE=DURATION:PT1H
X-Robots-Tag:noindex
X-PUBLISHED-TTL:PT1H
BEGIN:VTIMEZONE
TZID:Europe/Paris
BEGIN:DAYLIGHT
TZOFFSETFROM:+0100
TZOFFSETTO:+0200
TZNAME:CEST
DTSTART:20240331T010000
END:DAYLIGHT
BEGIN:STANDARD
TZOFFSETFROM:+0200
TZOFFSETTO:+0100
TZNAME:CET
DTSTART:20241027T010000
END:STANDARD
END:VTIMEZONE
BEGIN:VEVENT
DTSTART;TZID=Europe/Paris:20240730T120000
DTEND;TZID=Europe/Paris:20240730T143000
DTSTAMP:20260424T193346
CREATED:20240525T143403Z
LAST-MODIFIED:20240719T084140Z
UID:1116-1722340800-1722349800@www.enmoovement.com
SUMMARY:Marche & atelier "Comment être authentique dans ses prises de parole" à Hossegor\, 40
DESCRIPTION:Mardi 30 juillet de 12h à 14h30\, nous aurons l’occasion de marcher\, autour du lac d’Hossegor. Tout est mis en place pour que tu sois constamment entouré(e) et que tu aies l’opportunité de rencontrer plusieurs entrepreneurs. Nous poursuivrons ensuite nos échanges lors d’un pique-nique où chacun apporte son casse-croûte. Puis\, place à l’atelier d’ 1h : “Comment être authentique dans ses prises de parole” avec Sophie Nahmias\, coach certifiée et formatrice en prise de parole en public\, super passionnante !L’authenticité\, elle\, vibre 1000 fois plus fort que la vibration d’amour. Elle est la clef de voûte pour des business qui nourrissent aussi bien mon portefeuille que mon âme. Elle est la première étape pour faire un bilan réaliste et sincère de votre vie. Nous aborderons le thème de la prise de parole en public qui dévoile tout en partie notre authenticité. \nCette balade sera animée par Sophie Nahmias\, animatrice marcheuse. \nInscription et informations complémentaires en cliquant sur ce lien.
URL:https://www.enmoovement.com/marche/marche-a-hossegor-40-2/
LOCATION:Hossegor\, Hossegor\, Les Landes\, 40304\, France
CATEGORIES:Marche,Marche thématique
END:VEVENT
END:VCALENDAR