BEGIN:VCALENDAR
VERSION:2.0
PRODID:-//En moovement - ECPv6.7.0//NONSGML v1.0//EN
CALSCALE:GREGORIAN
METHOD:PUBLISH
X-ORIGINAL-URL:https://www.enmoovement.com
X-WR-CALDESC:Évènements pour En moovement
REFRESH-INTERVAL;VALUE=DURATION:PT1H
X-Robots-Tag:noindex
X-PUBLISHED-TTL:PT1H
BEGIN:VTIMEZONE
TZID:Europe/Paris
BEGIN:DAYLIGHT
TZOFFSETFROM:+0100
TZOFFSETTO:+0200
TZNAME:CEST
DTSTART:20240331T010000
END:DAYLIGHT
BEGIN:STANDARD
TZOFFSETFROM:+0200
TZOFFSETTO:+0100
TZNAME:CET
DTSTART:20241027T010000
END:STANDARD
END:VTIMEZONE
BEGIN:VEVENT
DTSTART;TZID=Europe/Paris:20240805T100000
DTEND;TZID=Europe/Paris:20240805T120000
DTSTAMP:20260424T193346
CREATED:20240525T143608Z
LAST-MODIFIED:20240610T143319Z
UID:1118-1722852000-1722859200@www.enmoovement.com
SUMMARY:Marche & initiation aux bains de forêt à Langoiran
DESCRIPTION:Lundi 5 août de 10h à 12h\, nous aurons l’occasion de marcher à Langoiran\, en Entre-Deux-Mers\, en pleine nature. Tout est mis en place pour que tu sois constamment entouré(e) et que tu aies l’opportunité de rencontrer plusieurs entrepreneurs. \nInscription et informations complémentaires en cliquant sur ce lien. \n 
URL:https://www.enmoovement.com/marche/marche-a-langoiran/
LOCATION:Langoiran\, Langoiran\, Gironde\, 33550
CATEGORIES:Marche
END:VEVENT
END:VCALENDAR