BEGIN:VCALENDAR
VERSION:2.0
PRODID:-//En moovement - ECPv6.7.0//NONSGML v1.0//EN
CALSCALE:GREGORIAN
METHOD:PUBLISH
X-WR-CALNAME:En moovement
X-ORIGINAL-URL:https://www.enmoovement.com
X-WR-CALDESC:Évènements pour En moovement
REFRESH-INTERVAL;VALUE=DURATION:PT1H
X-Robots-Tag:noindex
X-PUBLISHED-TTL:PT1H
BEGIN:VTIMEZONE
TZID:Europe/Paris
BEGIN:DAYLIGHT
TZOFFSETFROM:+0100
TZOFFSETTO:+0200
TZNAME:CEST
DTSTART:20240331T010000
END:DAYLIGHT
BEGIN:STANDARD
TZOFFSETFROM:+0200
TZOFFSETTO:+0100
TZNAME:CET
DTSTART:20241027T010000
END:STANDARD
END:VTIMEZONE
BEGIN:VEVENT
DTSTART;TZID=Europe/Paris:20240917T093000
DTEND;TZID=Europe/Paris:20240917T113000
DTSTAMP:20260424T175221
CREATED:20240613T063637Z
LAST-MODIFIED:20240613T063637Z
UID:1518-1726565400-1726572600@www.enmoovement.com
SUMMARY:Marche & atelier "Comment booster son énergie à la rentrée" à Pessac
DESCRIPTION:Mardi 17 septembre de 9h30 à 11h30\, nous aurons l’occasion de marcher entre entrepreneurs\, dans la forêt de Bourghail à Pessac. Tout est mis en place pour que tu sois constamment entouré(e) et que tu aies l’opportunité de rencontrer plusieurs entrepreneurs. Cette balade sera animée par Elodie Ajaccio\, naturopathe\, membre et animatrice marcheuse. Le thème de l’atelier : “Comment booster son énergie à la rentrée”. Vous apprendrez comment le corps fabrique de l’énergie et comment l’optimiser naturellement au mieux pendant la transition de saison vers l’automne. \nInscription et informations complémentaires en cliquant sur ce lien.
URL:https://www.enmoovement.com/marche/marche-atelier-comment-booster-son-energie-a-la-rentree-a-pessac/
LOCATION:Pessac\, Pessac\, Gironde
CATEGORIES:Marche,Marche thématique
END:VEVENT
END:VCALENDAR