BEGIN:VCALENDAR
VERSION:2.0
PRODID:-//En moovement - ECPv6.7.0//NONSGML v1.0//EN
CALSCALE:GREGORIAN
METHOD:PUBLISH
X-WR-CALNAME:En moovement
X-ORIGINAL-URL:https://www.enmoovement.com
X-WR-CALDESC:Évènements pour En moovement
REFRESH-INTERVAL;VALUE=DURATION:PT1H
X-Robots-Tag:noindex
X-PUBLISHED-TTL:PT1H
BEGIN:VTIMEZONE
TZID:Europe/Paris
BEGIN:DAYLIGHT
TZOFFSETFROM:+0100
TZOFFSETTO:+0200
TZNAME:CEST
DTSTART:20240331T010000
END:DAYLIGHT
BEGIN:STANDARD
TZOFFSETFROM:+0200
TZOFFSETTO:+0100
TZNAME:CET
DTSTART:20241027T010000
END:STANDARD
END:VTIMEZONE
BEGIN:VEVENT
DTSTART;TZID=Europe/Paris:20240923T093000
DTEND;TZID=Europe/Paris:20240923T120000
DTSTAMP:20260424T175358
CREATED:20240608T084039Z
LAST-MODIFIED:20240702T115459Z
UID:1476-1727083800-1727092800@www.enmoovement.com
SUMMARY:Marche & atelier sur le développement personnel : asseoir sa légitimité à Bègles
DESCRIPTION:Lundi 23 septembre de 9h30 à 12h\, nous aurons l’occasion de marcher entre entrepreneurs au Parc de Mussonville à Bègles. Puis\, Louise vous propose un atelier sur le développement personnel : Asseoir sa légitimité. Tout est mis en place pour que tu sois constamment entouré(e) et que tu aies l’opportunité de rencontrer plusieurs entrepreneurs. \nPlus d’informations et Inscriptions en cliquant sur ce lien.
URL:https://www.enmoovement.com/marche/marche-a-begles/
LOCATION:Bègles\, Bègles\, Gironde
CATEGORIES:Marche,Marche thématique
END:VEVENT
END:VCALENDAR