BEGIN:VCALENDAR
VERSION:2.0
PRODID:-//En moovement - ECPv6.7.0//NONSGML v1.0//EN
CALSCALE:GREGORIAN
METHOD:PUBLISH
X-ORIGINAL-URL:https://www.enmoovement.com
X-WR-CALDESC:Évènements pour En moovement
REFRESH-INTERVAL;VALUE=DURATION:PT1H
X-Robots-Tag:noindex
X-PUBLISHED-TTL:PT1H
BEGIN:VTIMEZONE
TZID:Europe/Paris
BEGIN:DAYLIGHT
TZOFFSETFROM:+0100
TZOFFSETTO:+0200
TZNAME:CEST
DTSTART:20240331T010000
END:DAYLIGHT
BEGIN:STANDARD
TZOFFSETFROM:+0200
TZOFFSETTO:+0100
TZNAME:CET
DTSTART:20241027T010000
END:STANDARD
END:VTIMEZONE
BEGIN:VEVENT
DTSTART;TZID=Europe/Paris:20241003T120000
DTEND;TZID=Europe/Paris:20241003T140000
DTSTAMP:20260424T160109
CREATED:20240715T123421Z
LAST-MODIFIED:20240715T123421Z
UID:1639-1727956800-1727964000@www.enmoovement.com
SUMMARY:Marche & déjeuner chez les Récoltants avec l'association Les Rayonnantes à Bordeaux pour Octobre Rose
DESCRIPTION:Jeudi 3 octobre de 12h à 14h\, nous organisons une marche entre entrepreneurs avec l’association Les Rayonnantes à Bordeaux. Tout est mis en place pour que tu sois constamment entouré(e) et que tu aies l’opportunité de rencontrer plusieurs entrepreneurs. Les dons versés ce jour là par les participant(es) seront destinés à l’association Octobre Rose qui lutte contre le cancer du sein. Après une marche d’une heure sur les quais de Bordeaux\, nous déjeunerons tous ensemble chez les Récoltants\, restaurant et marché fermier bio. Ça sera l’occasion de se réunir entre entrepreneurs pour apprendre à se connaitre et échanger entre les membres des deux associations. \nQui est l’association “Les Rayonnantes”? C’est la safe place des entrepreneuses ! L’objectif ? Réunir des femmes entrepreneuses\, leur permettre de se connecter\, s’entraider\, et se tirer vers le haut dans la bienveillance et la bonne humeur !Tu es entrepreneur(se) et tu as envie de rencontrer d’autres entrepreneurs tout en soutenant une jolie cause qui est Octobre Rose\, rejoins-nous lors de cet événement. \nInscription et informations complémentaires en cliquant sur ce lien.
URL:https://www.enmoovement.com/marche/marche-dejeuner-chez-les-recoltants-avec-lassociation-les-rayonnantes-a-bordeaux-pour-octobre-rose/
LOCATION:Bordeaux\, Bordeaux\, Gironde\, 33000\, France
CATEGORIES:Marche,Marche activité
END:VEVENT
END:VCALENDAR