BEGIN:VCALENDAR
VERSION:2.0
PRODID:-//En moovement - ECPv6.7.0//NONSGML v1.0//EN
CALSCALE:GREGORIAN
METHOD:PUBLISH
X-WR-CALNAME:En moovement
X-ORIGINAL-URL:https://www.enmoovement.com
X-WR-CALDESC:Évènements pour En moovement
REFRESH-INTERVAL;VALUE=DURATION:PT1H
X-Robots-Tag:noindex
X-PUBLISHED-TTL:PT1H
BEGIN:VTIMEZONE
TZID:Europe/Paris
BEGIN:DAYLIGHT
TZOFFSETFROM:+0100
TZOFFSETTO:+0200
TZNAME:CEST
DTSTART:20240331T010000
END:DAYLIGHT
BEGIN:STANDARD
TZOFFSETFROM:+0200
TZOFFSETTO:+0100
TZNAME:CET
DTSTART:20241027T010000
END:STANDARD
END:VTIMEZONE
BEGIN:VEVENT
DTSTART;TZID=Europe/Paris:20241007T083000
DTEND;TZID=Europe/Paris:20241007T103000
DTSTAMP:20260424T161314
CREATED:20240918T103432Z
LAST-MODIFIED:20240918T121505Z
UID:1704-1728289800-1728297000@www.enmoovement.com
SUMMARY:Marches solidaires pour TOUS dans le cadre OCTOBRE ROSE & séminaire sur le bien-être et la santé au travail à Bordeaux
DESCRIPTION:Nous vous invitons TOUS de 8h30 à 10h30 à trois marches solidaires d’une heure dans le cadre du challenge connecté Franchise à l’occasion d’Octobre Rose dans trois villes : \nBordeaux – le 7 octobre 2024\nParis – le 16 octobre 2024\nLyon – le 21 octobre 2024 \nC’est une initiative solidaire et collective au profit de LA NIAQUE L’ASSO\, une association dédiée à l’accompagnement des femmes et des hommes après un cancer. \nInscription et informations complémentaires en cliquant sur ce lien.
URL:https://www.enmoovement.com/marche/marches-solidaires-pour-tous-dans-le-cadre-octobre-rose-seminaire-sur-le-bien-etre-et-la-sante-au-travail-a-bordeaux/
LOCATION:Bordeaux\, Bordeaux\, Gironde\, 33000\, France
CATEGORIES:Marche,Marche thématique
END:VEVENT
END:VCALENDAR