BEGIN:VCALENDAR
VERSION:2.0
PRODID:-//En moovement - ECPv6.7.0//NONSGML v1.0//EN
CALSCALE:GREGORIAN
METHOD:PUBLISH
X-ORIGINAL-URL:https://www.enmoovement.com
X-WR-CALDESC:Évènements pour En moovement
REFRESH-INTERVAL;VALUE=DURATION:PT1H
X-Robots-Tag:noindex
X-PUBLISHED-TTL:PT1H
BEGIN:VTIMEZONE
TZID:Europe/Paris
BEGIN:DAYLIGHT
TZOFFSETFROM:+0100
TZOFFSETTO:+0200
TZNAME:CEST
DTSTART:20240331T010000
END:DAYLIGHT
BEGIN:STANDARD
TZOFFSETFROM:+0200
TZOFFSETTO:+0100
TZNAME:CET
DTSTART:20241027T010000
END:STANDARD
END:VTIMEZONE
BEGIN:VEVENT
DTSTART;TZID=Europe/Paris:20241121T140000
DTEND;TZID=Europe/Paris:20241121T160000
DTSTAMP:20260424T142852
CREATED:20240920T075459Z
LAST-MODIFIED:20241030T073348Z
UID:1708-1732197600-1732204800@www.enmoovement.com
SUMMARY:Marche & atelier "Confiance et prix : oser affirmer la valeur de ses services" Le Bouscat à JFC Clinic
DESCRIPTION:Le jeudi 21 novembre de 14h à 16h\, nous aurons l’occasion de marcher entre entrepreneurs au Bouscat. Tout est mis en place pour que tu sois constamment entouré(e) et que tu aies l’opportunité de rencontrer plusieurs entrepreneurs. Cette balade sera animée par Claire Hebrard\, fondatrice de l’association. \nAprès la marche\, nous irons au JFG Clinic Le Bouscat pour l’atelier : “Confiance et prix : oser affirmer la valeur de ses services”\, présenté par Noémi Deenen\, coach de dirigeantes. \nInscription et informations complémentaires en cliquant sur ce lien.
URL:https://www.enmoovement.com/marche/marche-atelier-confiance-et-prix-oser-affirmer-la-valeur-de-ses-services-le-bouscat/
LOCATION:Le Bouscat\, Le Bouscat\, France
CATEGORIES:Marche,Marche thématique
END:VEVENT
END:VCALENDAR