BEGIN:VCALENDAR
VERSION:2.0
PRODID:-//En moovement - ECPv6.7.0//NONSGML v1.0//EN
CALSCALE:GREGORIAN
METHOD:PUBLISH
X-ORIGINAL-URL:https://www.enmoovement.com
X-WR-CALDESC:Évènements pour En moovement
REFRESH-INTERVAL;VALUE=DURATION:PT1H
X-Robots-Tag:noindex
X-PUBLISHED-TTL:PT1H
BEGIN:VTIMEZONE
TZID:Europe/Paris
BEGIN:DAYLIGHT
TZOFFSETFROM:+0100
TZOFFSETTO:+0200
TZNAME:CEST
DTSTART:20240331T010000
END:DAYLIGHT
BEGIN:STANDARD
TZOFFSETFROM:+0200
TZOFFSETTO:+0100
TZNAME:CET
DTSTART:20241027T010000
END:STANDARD
END:VTIMEZONE
BEGIN:VEVENT
DTSTART;TZID=Europe/Paris:20241126T093000
DTEND;TZID=Europe/Paris:20241126T120000
DTSTAMP:20260424T121740
CREATED:20240801T083303Z
LAST-MODIFIED:20241030T073226Z
UID:1662-1732613400-1732622400@www.enmoovement.com
SUMMARY:Marche & atelier prise de parole en public à Bordeaux au Théâtre Victoire
DESCRIPTION:Le mardi 26 novembre de 09h30 à 12h\, nous aurons l’occasion de marcher entre entrepreneurs à Bordeaux.Tout est mis en place pour que tu sois constamment entouré(e) et que tu aies l’opportunité de rencontrer plusieurs entrepreneurs. Après la marche\, nous irons au Théâtre Victoire pour l’atelier : “Prise de parole en public” Présenté par Eric Drevet\, formateur et coach en prise de parole en public. À bientôt pour cette marche où vous profiterez d’une atmosphère détendue et enrichissante. \nInscription et informations complémentaires en cliquant sur ce lien.
URL:https://www.enmoovement.com/marche/marche-atelier-prise-de-parole-en-public-a-bordeaux/
LOCATION:Bordeaux\, Bordeaux\, Gironde\, 33000\, France
CATEGORIES:Marche,Marche thématique
END:VEVENT
END:VCALENDAR