BEGIN:VCALENDAR
VERSION:2.0
PRODID:-//En moovement - ECPv6.7.0//NONSGML v1.0//EN
CALSCALE:GREGORIAN
METHOD:PUBLISH
X-WR-CALNAME:En moovement
X-ORIGINAL-URL:https://www.enmoovement.com
X-WR-CALDESC:Évènements pour En moovement
REFRESH-INTERVAL;VALUE=DURATION:PT1H
X-Robots-Tag:noindex
X-PUBLISHED-TTL:PT1H
BEGIN:VTIMEZONE
TZID:Europe/Paris
BEGIN:DAYLIGHT
TZOFFSETFROM:+0100
TZOFFSETTO:+0200
TZNAME:CEST
DTSTART:20240331T010000
END:DAYLIGHT
BEGIN:STANDARD
TZOFFSETFROM:+0200
TZOFFSETTO:+0100
TZNAME:CET
DTSTART:20241027T010000
END:STANDARD
END:VTIMEZONE
BEGIN:VEVENT
DTSTART;TZID=Europe/Paris:20241212T093000
DTEND;TZID=Europe/Paris:20241212T120000
DTSTAMP:20260424T105408
CREATED:20241010T145739Z
LAST-MODIFIED:20241030T073155Z
UID:1739-1733995800-1734004800@www.enmoovement.com
SUMMARY:Marche & atelier Linkedin à Pessac à La Table d'Adamah
DESCRIPTION:Jeudi 12 décembre de 9h30 à 12h\, nous aurons l’occasion de marcher entre entrepreneurs à Pessac. Tout est mis en place pour que tu sois constamment entouré(e) et que tu aies l’opportunité de rencontrer plusieurs entrepreneurs. Après la marche\, nous sommes accueillis au restaurant La Table d’Adamah pour l’atelier “LINKEDIN” avec Pauline Kara Mikinda\, Consultante Marketing et Social Selling LinkedIn. \nInscription et informations complémentaires en cliquant sur ce lien.
URL:https://www.enmoovement.com/marche/marche-atelier-linkedin-a-pessac/
LOCATION:Pessac\, Pessac\, Gironde
CATEGORIES:Marche,Marche thématique
END:VEVENT
END:VCALENDAR