BEGIN:VCALENDAR
VERSION:2.0
PRODID:-//En moovement - ECPv6.7.0//NONSGML v1.0//EN
CALSCALE:GREGORIAN
METHOD:PUBLISH
X-ORIGINAL-URL:https://www.enmoovement.com
X-WR-CALDESC:Évènements pour En moovement
REFRESH-INTERVAL;VALUE=DURATION:PT1H
X-Robots-Tag:noindex
X-PUBLISHED-TTL:PT1H
BEGIN:VTIMEZONE
TZID:Europe/Paris
BEGIN:DAYLIGHT
TZOFFSETFROM:+0100
TZOFFSETTO:+0200
TZNAME:CEST
DTSTART:20240331T010000
END:DAYLIGHT
BEGIN:STANDARD
TZOFFSETFROM:+0200
TZOFFSETTO:+0100
TZNAME:CET
DTSTART:20241027T010000
END:STANDARD
END:VTIMEZONE
BEGIN:VEVENT
DTSTART;TZID=Europe/Paris:20241216T100000
DTEND;TZID=Europe/Paris:20241216T123000
DTSTAMP:20260424T110146
CREATED:20240925T121943Z
LAST-MODIFIED:20241008T160045Z
UID:1729-1734343200-1734352200@www.enmoovement.com
SUMMARY:Marche & collecte de déchets entre entrepreneurs autour des 2 Ponts à Bordeaux
DESCRIPTION:Lundi 16 décembre de 10h à 12h30\, nous organisons une Initiative Océane en collaboration avec Surfrider Foundation Europe\, une belle ONG avec de belles valeurs.Ça sera l’occasion de se réunir entre entrepreneurs pour collecter des déchets autour des 2 ponts à Bordeaux. Marion\, consultante RSE et bénévole chez Surfrider\, nous sensibilisera et nous présentera des solutions pour lutter contre la pollution des océans. \nÀ bientôt pour cette Initiative Océane où vous profiterez d’une atmosphère détendue et enrichissante. \nInscription et informations complémentaires en cliquant sur ce lien.
URL:https://www.enmoovement.com/marche/marche-marche-collecte-de-dechets-entre-entrepreneurs-autour-des-2-ponts-a-bordeaux/
LOCATION:Bordeaux\, Bordeaux\, Gironde\, 33000\, France
CATEGORIES:Marche,Marche activité
END:VEVENT
END:VCALENDAR