BEGIN:VCALENDAR
VERSION:2.0
PRODID:-//En moovement - ECPv6.7.0//NONSGML v1.0//EN
CALSCALE:GREGORIAN
METHOD:PUBLISH
X-WR-CALNAME:En moovement
X-ORIGINAL-URL:https://www.enmoovement.com
X-WR-CALDESC:Évènements pour En moovement
REFRESH-INTERVAL;VALUE=DURATION:PT1H
X-Robots-Tag:noindex
X-PUBLISHED-TTL:PT1H
BEGIN:VTIMEZONE
TZID:Europe/Paris
BEGIN:DAYLIGHT
TZOFFSETFROM:+0100
TZOFFSETTO:+0200
TZNAME:CEST
DTSTART:20250330T010000
END:DAYLIGHT
BEGIN:STANDARD
TZOFFSETFROM:+0200
TZOFFSETTO:+0100
TZNAME:CET
DTSTART:20251026T010000
END:STANDARD
END:VTIMEZONE
BEGIN:VEVENT
DTSTART;TZID=Europe/Paris:20250121T140000
DTEND;TZID=Europe/Paris:20250121T160000
DTSTAMP:20260420T105516
CREATED:20241105T174410Z
LAST-MODIFIED:20241105T174410Z
UID:1775-1737468000-1737475200@www.enmoovement.com
SUMMARY:Marche & atelier "Sophrologie Olfactive" à Mérignac
DESCRIPTION:Mardi 21 janvier de 14h à 16h\, nous aurons l’occasion de marcher entre entrepreneurs à Mérignac. Tout est mis en place pour que tu sois constamment entouré(e) et que tu aies l’opportunité de rencontrer plusieurs entrepreneurs. Cette balade sera animée par Marie Gonzalez\, Conseillère en cosmétiques\, membre et animatrice marcheuse. Ensuite\, vous participerez à un atelier “Sophrologie Olfactive” avec Marie Gonzalez et  et Aurélie Gaignard sophrologue\, prévention\, santé et QVT. \nÀ bientôt pour cette marche où vous profiterez d’une atmosphère détendue et divertissante ! \nInfos & inscriptions ici. 
URL:https://www.enmoovement.com/marche/marche-atelier-sophrologie-olfactive-a-merignac/
LOCATION:Merignac\, Mérignac\, Gironde\, 33700\, France
CATEGORIES:Marche,Marche activité
END:VEVENT
END:VCALENDAR